BEGIN:VCALENDAR
VERSION:2.0
PRODID:-//CFCArts - ECPv6.15.20//NONSGML v1.0//EN
CALSCALE:GREGORIAN
METHOD:PUBLISH
X-ORIGINAL-URL:https://cfcarts.com
X-WR-CALDESC:Events for CFCArts
REFRESH-INTERVAL;VALUE=DURATION:PT1H
X-Robots-Tag:noindex
X-PUBLISHED-TTL:PT1H
BEGIN:VTIMEZONE
TZID:America/New_York
BEGIN:DAYLIGHT
TZOFFSETFROM:-0500
TZOFFSETTO:-0400
TZNAME:EDT
DTSTART:20220313T070000
END:DAYLIGHT
BEGIN:STANDARD
TZOFFSETFROM:-0400
TZOFFSETTO:-0500
TZNAME:EST
DTSTART:20221106T060000
END:STANDARD
BEGIN:DAYLIGHT
TZOFFSETFROM:-0500
TZOFFSETTO:-0400
TZNAME:EDT
DTSTART:20230312T070000
END:DAYLIGHT
BEGIN:STANDARD
TZOFFSETFROM:-0400
TZOFFSETTO:-0500
TZNAME:EST
DTSTART:20231105T060000
END:STANDARD
BEGIN:DAYLIGHT
TZOFFSETFROM:-0500
TZOFFSETTO:-0400
TZNAME:EDT
DTSTART:20240310T070000
END:DAYLIGHT
BEGIN:STANDARD
TZOFFSETFROM:-0400
TZOFFSETTO:-0500
TZNAME:EST
DTSTART:20241103T060000
END:STANDARD
BEGIN:DAYLIGHT
TZOFFSETFROM:-0500
TZOFFSETTO:-0400
TZNAME:EDT
DTSTART:20250309T070000
END:DAYLIGHT
BEGIN:STANDARD
TZOFFSETFROM:-0400
TZOFFSETTO:-0500
TZNAME:EST
DTSTART:20251102T060000
END:STANDARD
END:VTIMEZONE
BEGIN:VEVENT
DTSTART;TZID=America/New_York:20240314T190000
DTEND;TZID=America/New_York:20240314T210000
DTSTAMP:20260421T063808
CREATED:20240108T161314Z
LAST-MODIFIED:20240313T135157Z
UID:10001655-1710442800-1710450000@cfcarts.com
SUMMARY:Cabaret Studio Showcase @ The Ren
DESCRIPTION:A Celebration of Growth and Discovery in Music and Storytelling \nJoin us for a truly special evening at the Renaissance Theatre\, where our Cabaret Studio students\, mentored by the wonderful Jill Dautzenberg\, showcase the culmination of their 10-week journey in the enchanting world of cabaret. This showcase is less about flawless performances and more about celebrating the personal and artistic growth of each student. \nImagine an evening filled with raw talent and genuine emotion\, where every song and story is a window into the learning and development that each performer has undergone. The showcase will feature each student presenting one piece that they’ve nurtured and grown over the course\, reflecting their hard work\, progress\, and newfound confidence in the art of cabaret. \nThis event is a testament to the power of perseverance\, learning\, and community support in the performing arts. It’s a night to appreciate the journey of each student as they step into the spotlight\, perhaps for the first time\, sharing their passion and progress with an audience that values their dedication and bravery. \nView Cabaret Studio digital program:\nCabaret Studio Program \nTicket Pricing\n Standard Ticketing $15\n Groups of 8 or more save 20% off regular pricing* \n*Use code Cabaret20 when you book online to select seats for your entire group.\nWe’re happy to help. For questions about group sales\, including paying by check or over time\, call our Box Office at 407-937-1800 x701.
URL:https://cfcarts.com/event/cabaret-studio-showcase-at-the-ren/
LOCATION:The Renaissance Theatre\, 415 Princeton Street\, Orlando\, FL\, 32803\, United States
CATEGORIES:Shows
ATTACH;FMTTYPE=image/png:https://cfcarts.com/wp-content/uploads/2023/08/servlet.png
END:VEVENT
BEGIN:VEVENT
DTSTART;TZID=America/New_York:20231116T190000
DTEND;TZID=America/New_York:20231116T210000
DTSTAMP:20260421T063808
CREATED:20230810T172944Z
LAST-MODIFIED:20231114T214636Z
UID:10001427-1700161200-1700168400@cfcarts.com
SUMMARY:Cabaret Studio: A Showcase Performance
DESCRIPTION:Our Cabaret Studio students have been working hard with the fantastic Jill Dautzenberg and are ready to perform! These students have been in a 12-week class on performing in a cabaret style using song\, storytelling\, and engaging with their fellow musicians and the audience. Join us at the Renaissance Theatre for music\, drinks\, and a fun night! \n  \nView the Cabaret Studio digital program:\nCabaret Studio Program \n  \nTicket Pricing\n Standard Ticketing $15\n Groups of 8 or more save 20% off regular pricing* \nWe’re happy to help. For questions about group sales\, including paying by check or over time\, call our Box Office at 407-937-1800 x701.
URL:https://cfcarts.com/event/cabaret-studio-a-showcase-performance-2/
LOCATION:The Renaissance Theatre\, 415 Princeton Street\, Orlando\, FL\, 32803\, United States
CATEGORIES:Shows
ATTACH;FMTTYPE=image/png:https://cfcarts.com/wp-content/uploads/2023/08/servlet.png
END:VEVENT
END:VCALENDAR