BEGIN:VCALENDAR
VERSION:2.0
PRODID:-//CFCArts - ECPv6.15.20//NONSGML v1.0//EN
CALSCALE:GREGORIAN
METHOD:PUBLISH
X-ORIGINAL-URL:https://cfcarts.com
X-WR-CALDESC:Events for CFCArts
REFRESH-INTERVAL;VALUE=DURATION:PT1H
X-Robots-Tag:noindex
X-PUBLISHED-TTL:PT1H
BEGIN:VTIMEZONE
TZID:America/New_York
BEGIN:DAYLIGHT
TZOFFSETFROM:-0500
TZOFFSETTO:-0400
TZNAME:EDT
DTSTART:20220313T070000
END:DAYLIGHT
BEGIN:STANDARD
TZOFFSETFROM:-0400
TZOFFSETTO:-0500
TZNAME:EST
DTSTART:20221106T060000
END:STANDARD
BEGIN:DAYLIGHT
TZOFFSETFROM:-0500
TZOFFSETTO:-0400
TZNAME:EDT
DTSTART:20230312T070000
END:DAYLIGHT
BEGIN:STANDARD
TZOFFSETFROM:-0400
TZOFFSETTO:-0500
TZNAME:EST
DTSTART:20231105T060000
END:STANDARD
BEGIN:DAYLIGHT
TZOFFSETFROM:-0500
TZOFFSETTO:-0400
TZNAME:EDT
DTSTART:20240310T070000
END:DAYLIGHT
BEGIN:STANDARD
TZOFFSETFROM:-0400
TZOFFSETTO:-0500
TZNAME:EST
DTSTART:20241103T060000
END:STANDARD
END:VTIMEZONE
BEGIN:VEVENT
DTSTART;TZID=America/New_York:20230501T110000
DTEND;TZID=America/New_York:20230501T120000
DTSTAMP:20260419T084949
CREATED:20230213T214456Z
LAST-MODIFIED:20230213T214606Z
UID:10001046-1682938800-1682942400@cfcarts.com
SUMMARY:Creative Memoirs
DESCRIPTION:This 10-week experience will teach participants various styles of memoir writing and basic acting techniques. Using what they learn in the first six weeks of class\, participants will create a digital memoir that will be theirs to share with family/friends and will be shared in a final showcase. \nClick here to register!
URL:https://cfcarts.com/event/memoirs-spring-2023-2/2023-05-01/
LOCATION:Maitland Senior Center\, 345 Maitland Ave S\, Maitland\, FL\, 32751\, United States
CATEGORIES:Classes
ATTACH;FMTTYPE=image/png:https://cfcarts.com/wp-content/uploads/2023/01/Creative-Memoirs-EDIT-2.png
ORGANIZER;CN="Arts in Action":MAILTO:school@cfcarts.com
END:VEVENT
END:VCALENDAR