BEGIN:VCALENDAR
VERSION:2.0
PRODID:-//CFCArts - ECPv6.15.20//NONSGML v1.0//EN
CALSCALE:GREGORIAN
METHOD:PUBLISH
X-WR-CALNAME:CFCArts
X-ORIGINAL-URL:https://cfcarts.com
X-WR-CALDESC:Events for CFCArts
REFRESH-INTERVAL;VALUE=DURATION:PT1H
X-Robots-Tag:noindex
X-PUBLISHED-TTL:PT1H
BEGIN:VTIMEZONE
TZID:America/New_York
BEGIN:DAYLIGHT
TZOFFSETFROM:-0500
TZOFFSETTO:-0400
TZNAME:EDT
DTSTART:20220313T070000
END:DAYLIGHT
BEGIN:STANDARD
TZOFFSETFROM:-0400
TZOFFSETTO:-0500
TZNAME:EST
DTSTART:20221106T060000
END:STANDARD
BEGIN:DAYLIGHT
TZOFFSETFROM:-0500
TZOFFSETTO:-0400
TZNAME:EDT
DTSTART:20230312T070000
END:DAYLIGHT
BEGIN:STANDARD
TZOFFSETFROM:-0400
TZOFFSETTO:-0500
TZNAME:EST
DTSTART:20231105T060000
END:STANDARD
BEGIN:DAYLIGHT
TZOFFSETFROM:-0500
TZOFFSETTO:-0400
TZNAME:EDT
DTSTART:20240310T070000
END:DAYLIGHT
BEGIN:STANDARD
TZOFFSETFROM:-0400
TZOFFSETTO:-0500
TZNAME:EST
DTSTART:20241103T060000
END:STANDARD
END:VTIMEZONE
BEGIN:VEVENT
DTSTART;TZID=America/New_York:20230221T130000
DTEND;TZID=America/New_York:20230221T140000
DTSTAMP:20260422T160024
CREATED:20230219T165711Z
LAST-MODIFIED:20230119T192834Z
UID:10001030-1676984400-1676988000@cfcarts.com
SUMMARY:Story Board Workshop
DESCRIPTION:When you hear the word “storyboard\,” you likely imagine a graphic artist or filmmaker planning out their next great visual project. But did you know storyboarding can be a valuable part of the creative writing process? \nIn this workshop led by Central Florida Community Arts Teaching Artist Chris Hicks\, learn how to better craft your stories by using a storyboard. She will guide you through using the structures of a story to elevate your writing. \nNot only will you learn to create engaging stories through the use of a storyboard template\, you’ll also synthesize your creative ideas in artistic written formats. Plus\, this collaborative workshop will offer the opportunity to connect with other writers and artists. \nThis program is presented by Chris Hicks of CFCArts and is hosted by the Winter Park Health Foundation.
URL:https://cfcarts.com/event/story-board-workshop/
LOCATION:Center for Health and Wellbeing\, 2005 Mizell Ave Suite 800\, Winter Park\, FL\, 32792\, United States
CATEGORIES:Workshops
ATTACH;FMTTYPE=image/png:https://cfcarts.com/wp-content/uploads/2023/01/SOAH-Generic-Writing.png
ORGANIZER;CN="Arts Access":MAILTO:school@cfcarts.com
END:VEVENT
BEGIN:VEVENT
DTSTART;TZID=America/New_York:20230202T110000
DTEND;TZID=America/New_York:20230202T120000
DTSTAMP:20260422T160024
CREATED:20230118T205426Z
LAST-MODIFIED:20230118T205426Z
UID:10000992-1675335600-1675339200@cfcarts.com
SUMMARY:Vision Board Workshop
DESCRIPTION:With Chris Hicks \nThe Vision Board workshop will help you combine the power of words\, pictures and your imagination to create a visual road map for your year \nGenerations of athletes have used visualization to improve their performance and results. What if those same principles could help you manifest wellbeing in all areas of your life\, from relationships to career and hobbies to your physical and mental health? Vision boards are a wonderful way to start working toward your personal goals and dreams. Psychology Today points out that the act of creating a vision board helps us gain self-awareness and self-reflect on what is important to us – giving us a visual roadmap toward a positive future. So\, let’s get started! \nBack by popular demand\, Central Florida Community Arts Teaching Artist Chris Hicks will lead this session\, combining the power of words\, pictures and your imagination. Using a series of word prompts\, she will lead you on a journey of self-discovery as you choose pictures to embody your next steps on your wellbeing journey. At the end of the class\, you’ll leave with your personalized vision board\, setting you up for new opportunities and success in the year ahead. \nTime & Date:\n02/02/23 11:00am to 12:00pm \nLocation:\nCenter for Health and Wellbeing\n2005 Mizell Ave Suite 800\, Winter Park\, FL 32792
URL:https://cfcarts.com/event/vision-board-workshop-spring-2023/
LOCATION:Center for Health and Wellbeing\, 2005 Mizell Ave Suite 800\, Winter Park\, FL\, 32792\, United States
CATEGORIES:Workshops
ATTACH;FMTTYPE=image/png:https://cfcarts.com/wp-content/uploads/2023/01/SOAH-Generic-Art.png
ORGANIZER;CN="Arts Access":MAILTO:school@cfcarts.com
END:VEVENT
END:VCALENDAR